BEGIN:VCALENDAR
VERSION:2.0
PRODID:-//UCSB Actuarial Association - ECPv5.9.1//NONSGML v1.0//EN
CALSCALE:GREGORIAN
METHOD:PUBLISH
X-WR-CALNAME:UCSB Actuarial Association
X-ORIGINAL-URL:https://actuaryclub.pstat.ucsb.edu
X-WR-CALDESC:Events for UCSB Actuarial Association
BEGIN:VTIMEZONE
TZID:America/Los_Angeles
BEGIN:DAYLIGHT
TZOFFSETFROM:-0800
TZOFFSETTO:-0700
TZNAME:PDT
DTSTART:20190310T100000
END:DAYLIGHT
BEGIN:STANDARD
TZOFFSETFROM:-0700
TZOFFSETTO:-0800
TZNAME:PST
DTSTART:20191103T090000
END:STANDARD
END:VTIMEZONE
BEGIN:VEVENT
DTSTART;TZID=America/Los_Angeles:20191007T170000
DTEND;TZID=America/Los_Angeles:20191007T180000
DTSTAMP:20260420T025304
CREATED:20191003T001238Z
LAST-MODIFIED:20191003T001238Z
UID:4549-1570467600-1570471200@actuaryclub.pstat.ucsb.edu
SUMMARY:Interview Workshop - Mock Interviews
DESCRIPTION:Day 2 of our two-day series Interview Workshop! We will be doing mock interviews to help you warm-up before facing recruiters at the Annual Career Fair! \n\n\n\n\n\n\n\n\n\n\n	\n		Share This Story\, Choose Your Platform!\n		FacebookTwitterLinkedInPinterest
URL:https://actuaryclub.pstat.ucsb.edu/event/interview-workshop-mock-interviews/
ATTACH;FMTTYPE=image/jpeg:https://actuaryclub.pstat.ucsb.edu/wp-content/uploads/2019/10/Interview-Workshop.jpg
END:VEVENT
END:VCALENDAR