BEGIN:VCALENDAR
VERSION:2.0
PRODID:-//UCSB Actuarial Association - ECPv5.9.1//NONSGML v1.0//EN
CALSCALE:GREGORIAN
METHOD:PUBLISH
X-WR-CALNAME:UCSB Actuarial Association
X-ORIGINAL-URL:https://actuaryclub.pstat.ucsb.edu
X-WR-CALDESC:Events for UCSB Actuarial Association
BEGIN:VTIMEZONE
TZID:America/Los_Angeles
BEGIN:DAYLIGHT
TZOFFSETFROM:-0800
TZOFFSETTO:-0700
TZNAME:PDT
DTSTART:20190310T100000
END:DAYLIGHT
BEGIN:STANDARD
TZOFFSETFROM:-0700
TZOFFSETTO:-0800
TZNAME:PST
DTSTART:20191103T090000
END:STANDARD
END:VTIMEZONE
BEGIN:VEVENT
DTSTART;TZID=America/Los_Angeles:20191114T173000
DTEND;TZID=America/Los_Angeles:20191114T193000
DTSTAMP:20260423T104127
CREATED:20191113T150348Z
LAST-MODIFIED:20191113T150349Z
UID:4665-1573752600-1573759800@actuaryclub.pstat.ucsb.edu
SUMMARY:Actuarial Exam Workshop & Case Studies Introduction
DESCRIPTION:Share This Story\, Choose Your Platform!\n		FacebookTwitterLinkedInPinterest
URL:https://actuaryclub.pstat.ucsb.edu/event/actuarial-exam-workshop-case-studies-introduction/
LOCATION:South Hall Sobel Conference Room\, South Hall\, Santa Barbara\, California\, 93111\, United States
ATTACH;FMTTYPE=image/jpeg:https://actuaryclub.pstat.ucsb.edu/wp-content/uploads/2019/11/Exam-and-Case.jpg
END:VEVENT
END:VCALENDAR